BEGIN:VCALENDAR
PRODID:-//eluceo/ical//2.0/EN
VERSION:2.0
CALSCALE:GREGORIAN
BEGIN:VEVENT
UID:a2df8b3cfec0b3bb5ee23a550ea417fc
DTSTAMP:20260422T174331Z
SUMMARY:JCMI Sisterhood Lunch Mtg
DESCRIPTION:Jewish Federation of Greater Naples\nCommunity Calendar\nhttps:
 //jewishnaples.org/calendar/calendar698\n\n&nbsp
DTSTART;TZID=America/New_York:20140708T120000
DTEND;TZID=America/New_York:20140708T120000
END:VEVENT
END:VCALENDAR
