BEGIN:VCALENDAR
PRODID:-//eluceo/ical//2.0/EN
VERSION:2.0
CALSCALE:GREGORIAN
BEGIN:VEVENT
UID:2160c9a02ec4d7384e1d1ef9a2a90759
DTSTAMP:20260424T074710Z
SUMMARY:HDH Board Mtg
DESCRIPTION:Jewish Federation of Greater Naples\nCommunity Calendar\nhttps:
 //jewishnaples.org/calendar/calendar692\n\n&nbsp
DTSTART;TZID=America/New_York:20150209T133000
DTEND;TZID=America/New_York:20150209T133000
END:VEVENT
END:VCALENDAR
