BEGIN:VCALENDAR
PRODID:-//eluceo/ical//2.0/EN
VERSION:2.0
CALSCALE:GREGORIAN
BEGIN:VEVENT
UID:abc708ccd96ae0d4aa456715edd8fdd4
DTSTAMP:20260422T034550Z
SUMMARY:HDH Board Mtg
DESCRIPTION:Jewish Federation of Greater Naples\nCommunity Calendar\nhttps:
 //jewishnaples.org/calendar/calendar691\n\n&nbsp
DTSTART;TZID=America/New_York:20150105T133000
DTEND;TZID=America/New_York:20150105T133000
END:VEVENT
END:VCALENDAR
