BEGIN:VCALENDAR
PRODID:-//eluceo/ical//2.0/EN
VERSION:2.0
CALSCALE:GREGORIAN
BEGIN:VEVENT
UID:c7a6c95ba923fc1002c319d0d55fd183
DTSTAMP:20260420T083724Z
SUMMARY:HDH Board Mtg
DESCRIPTION:Jewish Federation of Greater Naples\nCommunity Calendar\nhttps:
 //jewishnaples.org/calendar/calendar689\n\n&nbsp
DTSTART;TZID=America/New_York:20141103T133000
DTEND;TZID=America/New_York:20141103T133000
END:VEVENT
END:VCALENDAR
