BEGIN:VCALENDAR
PRODID:-//eluceo/ical//2.0/EN
VERSION:2.0
CALSCALE:GREGORIAN
BEGIN:VEVENT
UID:380e159801f251d2f1592ded1fc8d595
DTSTAMP:20260422T003615Z
SUMMARY:HDH Study Group
DESCRIPTION:Jewish Federation of Greater Naples\nCommunity Calendar\nhttps:
 //jewishnaples.org/calendar/calendar683\n\n&nbsp
DTSTART;TZID=America/New_York:20150216T130000
DTEND;TZID=America/New_York:20150216T130000
END:VEVENT
END:VCALENDAR
