BEGIN:VCALENDAR
PRODID:-//eluceo/ical//2.0/EN
VERSION:2.0
CALSCALE:GREGORIAN
BEGIN:VEVENT
UID:11480cd7992274c50ebb76389761deab
DTSTAMP:20260423T155055Z
SUMMARY:HDH Study Group
DESCRIPTION:Jewish Federation of Greater Naples\nCommunity Calendar\nhttps:
 //jewishnaples.org/calendar/calendar676\n\n&nbsp
DTSTART;TZID=America/New_York:20150126T130000
DTEND;TZID=America/New_York:20150126T130000
END:VEVENT
END:VCALENDAR
