BEGIN:VCALENDAR
PRODID:-//eluceo/ical//2.0/EN
VERSION:2.0
CALSCALE:GREGORIAN
BEGIN:VEVENT
UID:fd36f44ee8bb1677bcd909b1d069b20b
DTSTAMP:20260424T044214Z
SUMMARY:HDH Knowledge & Nosh
DESCRIPTION:Jewish Federation of Greater Naples\nCommunity Calendar\nhttps:
 //jewishnaples.org/calendar/calendar675\n\n&nbsp
DTSTART;TZID=America/New_York:20141112T113000
DTEND;TZID=America/New_York:20141112T113000
END:VEVENT
END:VCALENDAR
