BEGIN:VCALENDAR
PRODID:-//eluceo/ical//2.0/EN
VERSION:2.0
CALSCALE:GREGORIAN
BEGIN:VEVENT
UID:d0787f56ab393fba35ebb6479c915f07
DTSTAMP:20260423T225533Z
SUMMARY:HDH Knowledge & Nosh
DESCRIPTION:Jewish Federation of Greater Naples\nCommunity Calendar\nhttps:
 //jewishnaples.org/calendar/calendar673\n\n&nbsp
DTSTART;TZID=America/New_York:20150422T113000
DTEND;TZID=America/New_York:20150422T113000
END:VEVENT
END:VCALENDAR
