BEGIN:VCALENDAR
PRODID:-//eluceo/ical//2.0/EN
VERSION:2.0
CALSCALE:GREGORIAN
BEGIN:VEVENT
UID:9a6162f760e9262bd921be24e8834614
DTSTAMP:20260423T172021Z
SUMMARY:HDH Evening Group
DESCRIPTION:Jewish Federation of Greater Naples\nCommunity Calendar\nhttps:
 //jewishnaples.org/calendar/calendar671\n\nWelcome Back Dinner
DTSTART;TZID=America/New_York:20141102T173000
DTEND;TZID=America/New_York:20141102T173000
END:VEVENT
END:VCALENDAR
