BEGIN:VCALENDAR
PRODID:-//eluceo/ical//2.0/EN
VERSION:2.0
CALSCALE:GREGORIAN
BEGIN:VEVENT
UID:6f7a3c0a348ae54ad7a8334e6c75517c
DTSTAMP:20260424T025246Z
SUMMARY:HDH Evening Group
DESCRIPTION:Jewish Federation of Greater Naples\nCommunity Calendar\nhttps:
 //jewishnaples.org/calendar/calendar669\n\n&nbsp
DTSTART;TZID=America/New_York:20150122T190000
DTEND;TZID=America/New_York:20150122T190000
END:VEVENT
END:VCALENDAR
