BEGIN:VCALENDAR
PRODID:-//eluceo/ical//2.0/EN
VERSION:2.0
CALSCALE:GREGORIAN
BEGIN:VEVENT
UID:affaab0337ea9d9c13e76792d7305e62
DTSTAMP:20260422T060002Z
SUMMARY:HDH Evening Group
DESCRIPTION:Jewish Federation of Greater Naples\nCommunity Calendar\nhttps:
 //jewishnaples.org/calendar/calendar668\n\n&nbsp
DTSTART;TZID=America/New_York:20150212T190000
DTEND;TZID=America/New_York:20150212T190000
END:VEVENT
END:VCALENDAR
