BEGIN:VCALENDAR
PRODID:-//eluceo/ical//2.0/EN
VERSION:2.0
CALSCALE:GREGORIAN
BEGIN:VEVENT
UID:fbfc8acd3f265d504a5adc5df40ea7c0
DTSTAMP:20260422T034530Z
SUMMARY:GenShoah One Book One Community
DESCRIPTION:Jewish Federation of Greater Naples\nCommunity Calendar\nhttps:
 //jewishnaples.org/calendar/calendar662\n\nTemple Shalom\n\nJCRC/CJD
DTSTART;TZID=America/New_York:20150107T190000
DTEND;TZID=America/New_York:20150107T190000
END:VEVENT
END:VCALENDAR
