BEGIN:VCALENDAR
PRODID:-//eluceo/ical//2.0/EN
VERSION:2.0
CALSCALE:GREGORIAN
BEGIN:VEVENT
UID:4cfe46e1315e384772470c0535b8a66c
DTSTAMP:20260423T061655Z
SUMMARY:NJC Services
DESCRIPTION:Jewish Federation of Greater Naples\nCommunity Calendar\nhttps:
 //jewishnaples.org/calendar/calendar654\n\n&nbsp
DTSTART;TZID=America/New_York:20140924T193000
DTEND;TZID=America/New_York:20140924T193000
END:VEVENT
END:VCALENDAR
