BEGIN:VCALENDAR
PRODID:-//eluceo/ical//2.0/EN
VERSION:2.0
CALSCALE:GREGORIAN
BEGIN:VEVENT
UID:46e6e34ffdd4c2ffb1e25a72c8f54cb4
DTSTAMP:20260423T055359Z
SUMMARY:NJC Svs Break Fast
DESCRIPTION:Jewish Federation of Greater Naples\nCommunity Calendar\nhttps:
 //jewishnaples.org/calendar/calendar652\n\nFollowing Services for Yom Kipp
 ur
DTSTART;TZID=America/New_York:20141004T193000
DTEND;TZID=America/New_York:20141004T193000
END:VEVENT
END:VCALENDAR
