BEGIN:VCALENDAR
PRODID:-//eluceo/ical//2.0/EN
VERSION:2.0
CALSCALE:GREGORIAN
BEGIN:VEVENT
UID:5623fe15537d44d963b025ab0a21dedf
DTSTAMP:20260421T154653Z
SUMMARY:NJC Board Mtg
DESCRIPTION:Jewish Federation of Greater Naples\nCommunity Calendar\nhttps:
 //jewishnaples.org/calendar/calendar651\n\nFederation Board Room\n\n1:30 t
 o 4:00
DTSTART;TZID=America/New_York:20150409T130000
DTEND;TZID=America/New_York:20150409T130000
END:VEVENT
END:VCALENDAR
