BEGIN:VCALENDAR
PRODID:-//eluceo/ical//2.0/EN
VERSION:2.0
CALSCALE:GREGORIAN
BEGIN:VEVENT
UID:777b1553ce77ef44d4cc6bef5e5d2e38
DTSTAMP:20260423T042455Z
SUMMARY:NJC Board Mtg
DESCRIPTION:Jewish Federation of Greater Naples\nCommunity Calendar\nhttps:
 //jewishnaples.org/calendar/calendar650\n\nFederation Board Room\n\n1:30 t
 o 4:00
DTSTART;TZID=America/New_York:20150312T130000
DTEND;TZID=America/New_York:20150312T130000
END:VEVENT
END:VCALENDAR
