BEGIN:VCALENDAR
PRODID:-//eluceo/ical//2.0/EN
VERSION:2.0
CALSCALE:GREGORIAN
BEGIN:VEVENT
UID:2d21c7b899ebeaa85002a515282d3f8c
DTSTAMP:20260423T120651Z
SUMMARY:BT Minyan
DESCRIPTION:Jewish Federation of Greater Naples\nCommunity Calendar\nhttps:
 //jewishnaples.org/calendar/calendar65\n\n&nbsp
DTSTART;TZID=America/New_York:20150208T090000
DTEND;TZID=America/New_York:20150208T090000
END:VEVENT
END:VCALENDAR
