BEGIN:VCALENDAR
PRODID:-//eluceo/ical//2.0/EN
VERSION:2.0
CALSCALE:GREGORIAN
BEGIN:VEVENT
UID:bf0566cb20cd3b29bf077150f1195e83
DTSTAMP:20260420T144356Z
SUMMARY:NJC Board Mtg
DESCRIPTION:Jewish Federation of Greater Naples\nCommunity Calendar\nhttps:
 //jewishnaples.org/calendar/calendar648\n\nFederation Board Room\n\n1:30 t
 o 4:00
DTSTART;TZID=America/New_York:20150108T130000
DTEND;TZID=America/New_York:20150108T130000
END:VEVENT
END:VCALENDAR
