BEGIN:VCALENDAR
PRODID:-//eluceo/ical//2.0/EN
VERSION:2.0
CALSCALE:GREGORIAN
BEGIN:VEVENT
UID:e7ca051f04cc26c5a6f4f48feb848fa4
DTSTAMP:20260423T112804Z
SUMMARY:NJC Adult Enrichment Class
DESCRIPTION:Jewish Federation of Greater Naples\nCommunity Calendar\nhttps:
 //jewishnaples.org/calendar/calendar639\n\n&nbsp
DTSTART;TZID=America/New_York:20150308T103000
DTEND;TZID=America/New_York:20150308T103000
END:VEVENT
END:VCALENDAR
