BEGIN:VCALENDAR
PRODID:-//eluceo/ical//2.0/EN
VERSION:2.0
CALSCALE:GREGORIAN
BEGIN:VEVENT
UID:270489285bceb795cadafef4aad1424c
DTSTAMP:20260419T201350Z
SUMMARY:NJC Adult Enrichment Class
DESCRIPTION:Jewish Federation of Greater Naples\nCommunity Calendar\nhttps:
 //jewishnaples.org/calendar/calendar636\n\n&nbsp
DTSTART;TZID=America/New_York:20141214T103000
DTEND;TZID=America/New_York:20141214T103000
END:VEVENT
END:VCALENDAR
