BEGIN:VCALENDAR
PRODID:-//eluceo/ical//2.0/EN
VERSION:2.0
CALSCALE:GREGORIAN
BEGIN:VEVENT
UID:cedfe05e919516926b3e752d4d4d3df8
DTSTAMP:20260423T235146Z
SUMMARY:CHA/ZOA Speaker
DESCRIPTION:Jewish Federation of Greater Naples\nCommunity Calendar\nhttps:
 //jewishnaples.org/calendar/calendar622\n\nRichard Pearle \nAssistant Secr
 etary of Defense in the Reagan Administration
DTSTART;TZID=America/New_York:20141211T193000
DTEND;TZID=America/New_York:20141211T193000
END:VEVENT
END:VCALENDAR
