BEGIN:VCALENDAR
PRODID:-//eluceo/ical//2.0/EN
VERSION:2.0
CALSCALE:GREGORIAN
BEGIN:VEVENT
UID:2283289e8b964e8993ecc37715bc8ebc
DTSTAMP:20260424T022758Z
SUMMARY:TS/ZOA Speaker
DESCRIPTION:Jewish Federation of Greater Naples\nCommunity Calendar\nhttps:
 //jewishnaples.org/calendar/calendar621\n\nYoram Ettinger Isreali Ambassad
 or
DTSTART;TZID=America/New_York:20150114T193000
DTEND;TZID=America/New_York:20150114T193000
END:VEVENT
END:VCALENDAR
