BEGIN:VCALENDAR
PRODID:-//eluceo/ical//2.0/EN
VERSION:2.0
CALSCALE:GREGORIAN
BEGIN:VEVENT
UID:6350939f02c3fbdd8962c4be6d443ae2
DTSTAMP:20260423T190136Z
SUMMARY:JWV Mtg
DESCRIPTION:Jewish Federation of Greater Naples\nCommunity Calendar\nhttps:
 //jewishnaples.org/calendar/calendar616\n\n&nbsp
DTSTART;TZID=America/New_York:20141221T093000
DTEND;TZID=America/New_York:20141221T093000
END:VEVENT
END:VCALENDAR
