BEGIN:VCALENDAR
PRODID:-//eluceo/ical//2.0/EN
VERSION:2.0
CALSCALE:GREGORIAN
BEGIN:VEVENT
UID:13623b1607468e64bcdf91a0bf40fc10
DTSTAMP:20260422T085127Z
SUMMARY:CJD Faith Weekend
DESCRIPTION:Jewish Federation of Greater Naples\nCommunity Calendar\nhttps:
 //jewishnaples.org/calendar/calendar611\n\nSt. Agnes\nFr. Bob
DTSTART;TZID=America/New_York:20141207T170000
DTEND;TZID=America/New_York:20141207T170000
END:VEVENT
END:VCALENDAR
