BEGIN:VCALENDAR
PRODID:-//eluceo/ical//2.0/EN
VERSION:2.0
CALSCALE:GREGORIAN
BEGIN:VEVENT
UID:ca5c3545d1afa3fb808b551638c60a4a
DTSTAMP:20260422T015202Z
SUMMARY:HM GenShoah Mtg
DESCRIPTION:Jewish Federation of Greater Naples\nCommunity Calendar\nhttps:
 //jewishnaples.org/calendar/calendar607\n\nHolocaust Museum
DTSTART;TZID=America/New_York:20141221T163000
DTEND;TZID=America/New_York:20141221T163000
END:VEVENT
END:VCALENDAR
