BEGIN:VCALENDAR
PRODID:-//eluceo/ical//2.0/EN
VERSION:2.0
CALSCALE:GREGORIAN
BEGIN:VEVENT
UID:c8d9759a0550fcb3470af8c5b7604a51
DTSTAMP:20260419T220612Z
SUMMARY:CHA Services
DESCRIPTION:Jewish Federation of Greater Naples\nCommunity Calendar\nhttps:
 //jewishnaples.org/calendar/calendar605\n\n&nbsp
DTSTART;TZID=America/New_York:20150410T193000
DTEND;TZID=America/New_York:20150410T193000
END:VEVENT
END:VCALENDAR
