BEGIN:VCALENDAR
PRODID:-//eluceo/ical//2.0/EN
VERSION:2.0
CALSCALE:GREGORIAN
BEGIN:VEVENT
UID:412ee205570ae7d884076c45b22d3038
DTSTAMP:20260423T055449Z
SUMMARY:JCMI Sisterhood Fundraiser
DESCRIPTION:Jewish Federation of Greater Naples\nCommunity Calendar\nhttps:
 //jewishnaples.org/calendar/calendar6\n\n&nbsp
DTSTART;TZID=America/New_York:20150314T190000
DTEND;TZID=America/New_York:20150314T190000
END:VEVENT
END:VCALENDAR
