BEGIN:VCALENDAR
PRODID:-//eluceo/ical//2.0/EN
VERSION:2.0
CALSCALE:GREGORIAN
BEGIN:VEVENT
UID:b2561e28c4617c73c164ac006a5d18cc
DTSTAMP:20260422T131744Z
SUMMARY:CHA Services
DESCRIPTION:Jewish Federation of Greater Naples\nCommunity Calendar\nhttps:
 //jewishnaples.org/calendar/calendar598\n\n&nbsp
DTSTART;TZID=America/New_York:20140912T193000
DTEND;TZID=America/New_York:20140912T193000
END:VEVENT
END:VCALENDAR
