BEGIN:VCALENDAR
PRODID:-//eluceo/ical//2.0/EN
VERSION:2.0
CALSCALE:GREGORIAN
BEGIN:VEVENT
UID:3b41a730773484b8dbcbedbd79ab72df
DTSTAMP:20260424T021451Z
SUMMARY:BT Minyan
DESCRIPTION:Jewish Federation of Greater Naples\nCommunity Calendar\nhttps:
 //jewishnaples.org/calendar/calendar59\n\n&nbsp
DTSTART;TZID=America/New_York:20141228T090000
DTEND;TZID=America/New_York:20141228T090000
END:VEVENT
END:VCALENDAR
