BEGIN:VCALENDAR
PRODID:-//eluceo/ical//2.0/EN
VERSION:2.0
CALSCALE:GREGORIAN
BEGIN:VEVENT
UID:f2c365b67522a33700db299829527182
DTSTAMP:20260420T202754Z
SUMMARY:CHA Services
DESCRIPTION:Jewish Federation of Greater Naples\nCommunity Calendar\nhttps:
 //jewishnaples.org/calendar/calendar589\n\n&nbsp
DTSTART;TZID=America/New_York:20150102T183000
DTEND;TZID=America/New_York:20150102T183000
END:VEVENT
END:VCALENDAR
