BEGIN:VCALENDAR
PRODID:-//eluceo/ical//2.0/EN
VERSION:2.0
CALSCALE:GREGORIAN
BEGIN:VEVENT
UID:5809d123a3e2dc56a12694a6bb09a290
DTSTAMP:20260423T053741Z
SUMMARY:CHA Services
DESCRIPTION:Jewish Federation of Greater Naples\nCommunity Calendar\nhttps:
 //jewishnaples.org/calendar/calendar586\n\n&nbsp
DTSTART;TZID=America/New_York:20141003T183000
DTEND;TZID=America/New_York:20141003T183000
END:VEVENT
END:VCALENDAR
