BEGIN:VCALENDAR
PRODID:-//eluceo/ical//2.0/EN
VERSION:2.0
CALSCALE:GREGORIAN
BEGIN:VEVENT
UID:0ad9d69e4798445e4c74cfae4ae0755a
DTSTAMP:20260422T034339Z
SUMMARY:CHA Services
DESCRIPTION:Jewish Federation of Greater Naples\nCommunity Calendar\nhttps:
 //jewishnaples.org/calendar/calendar585\n\n&nbsp
DTSTART;TZID=America/New_York:20140905T183000
DTEND;TZID=America/New_York:20140905T183000
END:VEVENT
END:VCALENDAR
