BEGIN:VCALENDAR
PRODID:-//eluceo/ical//2.0/EN
VERSION:2.0
CALSCALE:GREGORIAN
BEGIN:VEVENT
UID:59448a23a9b9235f29e9d7077cf3ba44
DTSTAMP:20260421T204811Z
SUMMARY:CHA Services
DESCRIPTION:Jewish Federation of Greater Naples\nCommunity Calendar\nhttps:
 //jewishnaples.org/calendar/calendar574\n\n&nbsp
DTSTART;TZID=America/New_York:20141017T193000
DTEND;TZID=America/New_York:20141017T193000
END:VEVENT
END:VCALENDAR
