BEGIN:VCALENDAR
PRODID:-//eluceo/ical//2.0/EN
VERSION:2.0
CALSCALE:GREGORIAN
BEGIN:VEVENT
UID:12ad1613379e1d5a7910a274dae362b6
DTSTAMP:20260422T061122Z
SUMMARY:CHA Services
DESCRIPTION:Jewish Federation of Greater Naples\nCommunity Calendar\nhttps:
 //jewishnaples.org/calendar/calendar573\n\n&nbsp
DTSTART;TZID=America/New_York:20140919T193000
DTEND;TZID=America/New_York:20140919T193000
END:VEVENT
END:VCALENDAR
