BEGIN:VCALENDAR
PRODID:-//eluceo/ical//2.0/EN
VERSION:2.0
CALSCALE:GREGORIAN
BEGIN:VEVENT
UID:6addb7fc3993508b5bcb202fc276ddea
DTSTAMP:20260424T085545Z
SUMMARY:CHA Services
DESCRIPTION:Jewish Federation of Greater Naples\nCommunity Calendar\nhttps:
 //jewishnaples.org/calendar/calendar568\n\n&nbsp
DTSTART;TZID=America/New_York:20150424T193000
DTEND;TZID=America/New_York:20150424T193000
END:VEVENT
END:VCALENDAR
