BEGIN:VCALENDAR
PRODID:-//eluceo/ical//2.0/EN
VERSION:2.0
CALSCALE:GREGORIAN
BEGIN:VEVENT
UID:c4bf9770475a8d9f2eebe1424832aba4
DTSTAMP:20260422T092259Z
SUMMARY:CHA Services
DESCRIPTION:Jewish Federation of Greater Naples\nCommunity Calendar\nhttps:
 //jewishnaples.org/calendar/calendar560\n\n&nbsp
DTSTART;TZID=America/New_York:20140822T193000
DTEND;TZID=America/New_York:20140822T193000
END:VEVENT
END:VCALENDAR
