BEGIN:VCALENDAR
PRODID:-//eluceo/ical//2.0/EN
VERSION:2.0
CALSCALE:GREGORIAN
BEGIN:VEVENT
UID:798151025853231467e02464efe4397d
DTSTAMP:20260423T053012Z
SUMMARY:TS Hebrew School
DESCRIPTION:Jewish Federation of Greater Naples\nCommunity Calendar\nhttps:
 //jewishnaples.org/calendar/calendar538\n\n&nbsp
DTSTART;TZID=America/New_York:20150415T170000
DTEND;TZID=America/New_York:20150415T170000
END:VEVENT
END:VCALENDAR
