BEGIN:VCALENDAR
PRODID:-//eluceo/ical//2.0/EN
VERSION:2.0
CALSCALE:GREGORIAN
BEGIN:VEVENT
UID:913697c40079bc3dc4abfe173c544b1a
DTSTAMP:20260423T013543Z
SUMMARY:TS Hebrew School
DESCRIPTION:Jewish Federation of Greater Naples\nCommunity Calendar\nhttps:
 //jewishnaples.org/calendar/calendar535\n\n&nbsp
DTSTART;TZID=America/New_York:20150325T170000
DTEND;TZID=America/New_York:20150325T170000
END:VEVENT
END:VCALENDAR
