BEGIN:VCALENDAR
PRODID:-//eluceo/ical//2.0/EN
VERSION:2.0
CALSCALE:GREGORIAN
BEGIN:VEVENT
UID:7c73f45bb5da2c470b7b976209df50c1
DTSTAMP:20260422T222755Z
SUMMARY:TS Hebrew School
DESCRIPTION:Jewish Federation of Greater Naples\nCommunity Calendar\nhttps:
 //jewishnaples.org/calendar/calendar534\n\n&nbsp
DTSTART;TZID=America/New_York:20150318T170000
DTEND;TZID=America/New_York:20150318T170000
END:VEVENT
END:VCALENDAR
