BEGIN:VCALENDAR
PRODID:-//eluceo/ical//2.0/EN
VERSION:2.0
CALSCALE:GREGORIAN
BEGIN:VEVENT
UID:6a37954804a3c623581e56bc59b9e5ce
DTSTAMP:20260424T004904Z
SUMMARY:TS Hebrew School
DESCRIPTION:Jewish Federation of Greater Naples\nCommunity Calendar\nhttps:
 //jewishnaples.org/calendar/calendar533\n\n&nbsp
DTSTART;TZID=America/New_York:20150311T170000
DTEND;TZID=America/New_York:20150311T170000
END:VEVENT
END:VCALENDAR
