BEGIN:VCALENDAR
PRODID:-//eluceo/ical//2.0/EN
VERSION:2.0
CALSCALE:GREGORIAN
BEGIN:VEVENT
UID:10c241d9538ba849dacdae2f192a3b9e
DTSTAMP:20260424T071831Z
SUMMARY:TS Hebrew School
DESCRIPTION:Jewish Federation of Greater Naples\nCommunity Calendar\nhttps:
 //jewishnaples.org/calendar/calendar530\n\n&nbsp
DTSTART;TZID=America/New_York:20150218T170000
DTEND;TZID=America/New_York:20150218T170000
END:VEVENT
END:VCALENDAR
