BEGIN:VCALENDAR
PRODID:-//eluceo/ical//2.0/EN
VERSION:2.0
CALSCALE:GREGORIAN
BEGIN:VEVENT
UID:0432e78459472c9fc0a3cfaa5eab6f6f
DTSTAMP:20260424T052145Z
SUMMARY:TS Hebrew School
DESCRIPTION:Jewish Federation of Greater Naples\nCommunity Calendar\nhttps:
 //jewishnaples.org/calendar/calendar529\n\n&nbsp
DTSTART;TZID=America/New_York:20150211T170000
DTEND;TZID=America/New_York:20150211T170000
END:VEVENT
END:VCALENDAR
