BEGIN:VCALENDAR
PRODID:-//eluceo/ical//2.0/EN
VERSION:2.0
CALSCALE:GREGORIAN
BEGIN:VEVENT
UID:7763f9835af48a5d75bcef10947ba7bf
DTSTAMP:20260423T010440Z
SUMMARY:TS Hebrew School
DESCRIPTION:Jewish Federation of Greater Naples\nCommunity Calendar\nhttps:
 //jewishnaples.org/calendar/calendar526\n\n&nbsp
DTSTART;TZID=America/New_York:20150121T170000
DTEND;TZID=America/New_York:20150121T170000
END:VEVENT
END:VCALENDAR
