BEGIN:VCALENDAR
PRODID:-//eluceo/ical//2.0/EN
VERSION:2.0
CALSCALE:GREGORIAN
BEGIN:VEVENT
UID:c1f7461aa16291225b31adad2f5c0a6a
DTSTAMP:20260423T192232Z
SUMMARY:TS Hebrew School
DESCRIPTION:Jewish Federation of Greater Naples\nCommunity Calendar\nhttps:
 //jewishnaples.org/calendar/calendar523\n\n&nbsp
DTSTART;TZID=America/New_York:20141231T170000
DTEND;TZID=America/New_York:20141231T170000
END:VEVENT
END:VCALENDAR
