BEGIN:VCALENDAR
PRODID:-//eluceo/ical//2.0/EN
VERSION:2.0
CALSCALE:GREGORIAN
BEGIN:VEVENT
UID:7d392a9c93d466c060079cbb3e7cc7c8
DTSTAMP:20260423T053212Z
SUMMARY:TS Hebrew School
DESCRIPTION:Jewish Federation of Greater Naples\nCommunity Calendar\nhttps:
 //jewishnaples.org/calendar/calendar512\n\n&nbsp
DTSTART;TZID=America/New_York:20141008T170000
DTEND;TZID=America/New_York:20141008T170000
END:VEVENT
END:VCALENDAR
