BEGIN:VCALENDAR
PRODID:-//eluceo/ical//2.0/EN
VERSION:2.0
CALSCALE:GREGORIAN
BEGIN:VEVENT
UID:2b795af971ecf1d7af0a45eeaf25ddc4
DTSTAMP:20260423T072303Z
SUMMARY:TS Hebrew School
DESCRIPTION:Jewish Federation of Greater Naples\nCommunity Calendar\nhttps:
 //jewishnaples.org/calendar/calendar511\n\n&nbsp
DTSTART;TZID=America/New_York:20141001T170000
DTEND;TZID=America/New_York:20141001T170000
END:VEVENT
END:VCALENDAR
