BEGIN:VCALENDAR
PRODID:-//eluceo/ical//2.0/EN
VERSION:2.0
CALSCALE:GREGORIAN
BEGIN:VEVENT
UID:49323d2fa136b2758bd651e184e3e895
DTSTAMP:20260423T093659Z
SUMMARY:TS Hebrew School
DESCRIPTION:Jewish Federation of Greater Naples\nCommunity Calendar\nhttps:
 //jewishnaples.org/calendar/calendar510\n\n&nbsp
DTSTART;TZID=America/New_York:20140917T170000
DTEND;TZID=America/New_York:20140917T170000
END:VEVENT
END:VCALENDAR
