BEGIN:VCALENDAR
PRODID:-//eluceo/ical//2.0/EN
VERSION:2.0
CALSCALE:GREGORIAN
BEGIN:VEVENT
UID:e830d64f60751755c74e554bf97a95db
DTSTAMP:20260423T055956Z
SUMMARY:TS Sunday School
DESCRIPTION:Jewish Federation of Greater Naples\nCommunity Calendar\nhttps:
 //jewishnaples.org/calendar/calendar504\n\n&nbsp
DTSTART;TZID=America/New_York:20150301T093000
DTEND;TZID=America/New_York:20150301T093000
END:VEVENT
END:VCALENDAR
