BEGIN:VCALENDAR
PRODID:-//eluceo/ical//2.0/EN
VERSION:2.0
CALSCALE:GREGORIAN
BEGIN:VEVENT
UID:53f6b2871cc43d0d6a866787adb54036
DTSTAMP:20260423T225453Z
SUMMARY:BT Eat/Learn Shabbat
DESCRIPTION:Jewish Federation of Greater Naples\nCommunity Calendar\nhttps:
 //jewishnaples.org/calendar/calendar50\n\nService Food Oneg
DTSTART;TZID=America/New_York:20141031T180000
DTEND;TZID=America/New_York:20141031T180000
END:VEVENT
END:VCALENDAR
