BEGIN:VCALENDAR
PRODID:-//eluceo/ical//2.0/EN
VERSION:2.0
CALSCALE:GREGORIAN
BEGIN:VEVENT
UID:ddf5e7885ffbecaa91322653a804f537
DTSTAMP:20260422T024204Z
SUMMARY:TS Sunday School
DESCRIPTION:Jewish Federation of Greater Naples\nCommunity Calendar\nhttps:
 //jewishnaples.org/calendar/calendar496\n\n&nbsp
DTSTART;TZID=America/New_York:20141116T093000
DTEND;TZID=America/New_York:20141116T093000
END:VEVENT
END:VCALENDAR
